BEGIN:VCALENDAR
VERSION:2.0
PRODID:-//Squarespace Inc/Squarespace 6//v6//EN
BEGIN:VEVENT
UID:54262bdfe4b001c7872a20d6@squarespace.com
DTSTAMP:20140927T032016Z
DTSTART:20141007T100000Z
DTEND:20141007T130000Z
SUMMARY:Myofascial Release Techniques - Neck & Shoulder Girdle (Pt 1)
GEO:-31.947669;115.861368
LOCATION:Central Institute of Technology\, 30 Aberdeen St\, Perth\, WA\, 60
 00\, Australia
END:VEVENT
END:VCALENDAR
