BEGIN:VCALENDAR
VERSION:2.0
PRODID:-//Squarespace Inc/Squarespace 6//v6//EN
BEGIN:VEVENT
UID:54267013e4b0d4ae39689f34@squarespace.com
DTSTAMP:20140927T080847Z
DTSTART:20141104T100000Z
DTEND:20141104T130000Z
SUMMARY:Myofascial Release Techniques - Pelvis & Thigh (Pt 1)
GEO:-31.947669;115.861368
LOCATION:Central Institute of Technology\, 30 Aberdeen St\, Perth\, WA\, 60
 00\, Australia
END:VEVENT
END:VCALENDAR
