BEGIN:VCALENDAR
VERSION:2.0
PRODID:-//Squarespace Inc/Squarespace 6//v6//EN
BEGIN:VEVENT
UID:542670a0e4b043ee968a12c7@squarespace.com
DTSTAMP:20140927T081156Z
DTSTART:20141105T100000Z
DTEND:20141105T130000Z
SUMMARY:Myofascial Release Techniques - Pelvis & Thigh (Pt 2)
GEO:-31.947669;115.861368
LOCATION:Central Institute of Technology\, 30 Aberdeen St\, Perth\, WA\, 60
 00\, Australia
END:VEVENT
END:VCALENDAR
