BEGIN:VCALENDAR
VERSION:2.0
PRODID:-//Squarespace Inc/Squarespace 6//v6//EN
BEGIN:VEVENT
UID:57ce6e4a6a4963278c0cabee@squarespace.com
DTSTAMP:20161222T060522Z
DTSTART:20161111T010000Z
DTEND:20161112T090000Z
SUMMARY:Myofascial Release Techniques - Easing the Shoulder Girdle and Uppe
 r Limb
GEO:-33.650964;115.347671
LOCATION:Busselton Community Resource Centre\, 21 Cammilleri Street\, Busse
 lton\, WA\, 6280\, Australia
END:VEVENT
END:VCALENDAR
