BEGIN:VCALENDAR
VERSION:2.0
PRODID:-//Squarespace Inc/Squarespace 6//v6//EN
BEGIN:VEVENT
UID:5816f3b8725e25ba06311ca2@squarespace.com
DTSTAMP:20161031T074050Z
DTSTART:20161119T063000Z
DTEND:20161119T103000Z
SUMMARY:Myofascial Release Techniques - Abdomen & Lower Back
GEO:-31.77765;115.97368
LOCATION:Ellenbrook Essential Therapies\, 37 Mornington Parkway\, Ellenbroo
 k\, WA\, 6069\, Australia
END:VEVENT
END:VCALENDAR
