BEGIN:VCALENDAR
VERSION:2.0
PRODID:-//Squarespace Inc/Squarespace 6//v6//EN
BEGIN:VEVENT
UID:585b6c00ebbd1af09d3c4ce8@squarespace.com
DTSTAMP:20161222T060952Z
DTSTART:20170224T010000Z
DTEND:20170225T090000Z
SUMMARY:Myofascial Release Techniques - Easing the Shoulder Girdle and Neck
GEO:-33.650964;115.347671
LOCATION:Busselton Community Resource Centre\, 21 Cammilleri Street\, Busse
 lton\, WA\, 6280\, Australia
END:VEVENT
END:VCALENDAR
