BEGIN:VCALENDAR
VERSION:2.0
PRODID:-//Squarespace Inc/Squarespace 6//v6//EN
BEGIN:VEVENT
UID:585b644ee6f2e12ed96c2b67@squarespace.com
DTSTAMP:20161222T055251Z
DTSTART:20170115T053000Z
DTEND:20170115T103000Z
SUMMARY:Myofascial Release Techniques - for the Hip
GEO:-31.77765;115.97368
LOCATION:Ellenbrook Essential Therapies\, 37 Mornington Parkway\, Ellenbroo
 k\, WA\, 6069\, Australia
END:VEVENT
END:VCALENDAR
