BEGIN:VCALENDAR
VERSION:2.0
PRODID:-//Squarespace Inc/Squarespace 6//v6//EN
BEGIN:VEVENT
UID:585b5d44197aea5fc1e7f634@squarespace.com
DTSTAMP:20161223T052416Z
DTSTART:20170212T010000Z
DTEND:20170212T090000Z
SUMMARY:Cranio-Sacral Techniques - for Beginners
END:VEVENT
END:VCALENDAR
